BEGIN:VCALENDAR
VERSION:2.0
PRODID:-//Columbia Hills - ECPv6.15.20//NONSGML v1.0//EN
CALSCALE:GREGORIAN
METHOD:PUBLISH
X-ORIGINAL-URL:https://www.columbiahillsgolf.com
X-WR-CALDESC:Events for Columbia Hills
REFRESH-INTERVAL;VALUE=DURATION:PT1H
X-Robots-Tag:noindex
X-PUBLISHED-TTL:PT1H
BEGIN:VTIMEZONE
TZID:America/New_York
BEGIN:DAYLIGHT
TZOFFSETFROM:-0500
TZOFFSETTO:-0400
TZNAME:EDT
DTSTART:20210314T070000
END:DAYLIGHT
BEGIN:STANDARD
TZOFFSETFROM:-0400
TZOFFSETTO:-0500
TZNAME:EST
DTSTART:20211107T060000
END:STANDARD
BEGIN:DAYLIGHT
TZOFFSETFROM:-0500
TZOFFSETTO:-0400
TZNAME:EDT
DTSTART:20220313T070000
END:DAYLIGHT
BEGIN:STANDARD
TZOFFSETFROM:-0400
TZOFFSETTO:-0500
TZNAME:EST
DTSTART:20221106T060000
END:STANDARD
BEGIN:DAYLIGHT
TZOFFSETFROM:-0500
TZOFFSETTO:-0400
TZNAME:EDT
DTSTART:20230312T070000
END:DAYLIGHT
BEGIN:STANDARD
TZOFFSETFROM:-0400
TZOFFSETTO:-0500
TZNAME:EST
DTSTART:20231105T060000
END:STANDARD
END:VTIMEZONE
BEGIN:VEVENT
DTSTART;TZID=America/New_York:20220423T110000
DTEND;TZID=America/New_York:20220423T150000
DTSTAMP:20260422T061704
CREATED:20220312T164740Z
LAST-MODIFIED:20231018T142833Z
UID:2952-1650711600-1650726000@www.columbiahillsgolf.com
SUMMARY:Mens Pot Game
DESCRIPTION:The Men’s Pot games are back. Each event will have a different tournament structure and is a fun friendly way to get involved in competition. The field will be limited to 40 players per event so please sign up early! \n  \nAll Pot Games must be played under the USGA rules of golf. Ball must hit the bottom of the cup. NO RAKES\, NO GIMMIES\, PUTT EVERYTHING OUT.  \n  \nScorecards for Jackpot rounds must be turned into the pro shop directly after your round is played. Scorecards that are not turned in on the day of the event will not be accepted. Results will be sent out and posted the following day after the event is played. Skins and Pins will be included as part of your entry. \n  \nPayouts will be determined by number of participants \n  \n\nApril 23rd: 2 Man Scramble                         11:00am Shotgun Start\nMay 25th:             Member / Member Best Ball                                    1:00pm Tee Times\nJuly 9th:               Member / Guest Best Ball                                        1:00pm Tee Times\nOctober 7th:       Member / Guest Best Ball (Gross & Net)               1:00pm Shotgun\n\nClam Bake following golf / Price TBD  \n 
URL:https://www.columbiahillsgolf.com/event/mens-pot-game/
LOCATION:Columbia Hills\, Columbia Hills
CATEGORIES:Golf
END:VEVENT
END:VCALENDAR