BEGIN:VCALENDAR
VERSION:2.0
PRODID:-//Columbia Hills - ECPv6.15.20//NONSGML v1.0//EN
CALSCALE:GREGORIAN
METHOD:PUBLISH
X-WR-CALNAME:Columbia Hills
X-ORIGINAL-URL:https://www.columbiahillsgolf.com
X-WR-CALDESC:Events for Columbia Hills
REFRESH-INTERVAL;VALUE=DURATION:PT1H
X-Robots-Tag:noindex
X-PUBLISHED-TTL:PT1H
BEGIN:VTIMEZONE
TZID:America/New_York
BEGIN:DAYLIGHT
TZOFFSETFROM:-0500
TZOFFSETTO:-0400
TZNAME:EDT
DTSTART:20210314T070000
END:DAYLIGHT
BEGIN:STANDARD
TZOFFSETFROM:-0400
TZOFFSETTO:-0500
TZNAME:EST
DTSTART:20211107T060000
END:STANDARD
BEGIN:DAYLIGHT
TZOFFSETFROM:-0500
TZOFFSETTO:-0400
TZNAME:EDT
DTSTART:20220313T070000
END:DAYLIGHT
BEGIN:STANDARD
TZOFFSETFROM:-0400
TZOFFSETTO:-0500
TZNAME:EST
DTSTART:20221106T060000
END:STANDARD
BEGIN:DAYLIGHT
TZOFFSETFROM:-0500
TZOFFSETTO:-0400
TZNAME:EDT
DTSTART:20230312T070000
END:DAYLIGHT
BEGIN:STANDARD
TZOFFSETFROM:-0400
TZOFFSETTO:-0500
TZNAME:EST
DTSTART:20231105T060000
END:STANDARD
END:VTIMEZONE
BEGIN:VEVENT
DTSTART;TZID=America/New_York:20220527T180000
DTEND;TZID=America/New_York:20220527T203000
DTSTAMP:20260422T120318
CREATED:20220209T130852Z
LAST-MODIFIED:20231018T142809Z
UID:2849-1653674400-1653683400@www.columbiahillsgolf.com
SUMMARY:Wine And Nine
DESCRIPTION:Wine Down with some golf to ease into the weekend! Perfect for golf and wine enthusiasts. Enjoy a relaxing evening on the course\, with wine and light food fare. Play with friends and meet new ones. \n  \nThis will be a very popular event so sign up NOW. \n  \n\nFormat: 2 Person Couples Scramble 10% of combined handicap.\nTime: 6:00 PM Shotgun\nPairings: Choose your own 4-some or be paired by the golf shop.\nIncludes: Wine\, assorted Hors d’oeuvres on course and prizes.
URL:https://www.columbiahillsgolf.com/event/wine-and-nine/
CATEGORIES:Golf
END:VEVENT
END:VCALENDAR