BEGIN:VCALENDAR
VERSION:2.0
PRODID:-//Columbia Hills - ECPv6.15.20//NONSGML v1.0//EN
CALSCALE:GREGORIAN
METHOD:PUBLISH
X-WR-CALNAME:Columbia Hills
X-ORIGINAL-URL:https://www.columbiahillsgolf.com
X-WR-CALDESC:Events for Columbia Hills
REFRESH-INTERVAL;VALUE=DURATION:PT1H
X-Robots-Tag:noindex
X-PUBLISHED-TTL:PT1H
BEGIN:VTIMEZONE
TZID:America/New_York
BEGIN:DAYLIGHT
TZOFFSETFROM:-0500
TZOFFSETTO:-0400
TZNAME:EDT
DTSTART:20210314T070000
END:DAYLIGHT
BEGIN:STANDARD
TZOFFSETFROM:-0400
TZOFFSETTO:-0500
TZNAME:EST
DTSTART:20211107T060000
END:STANDARD
BEGIN:DAYLIGHT
TZOFFSETFROM:-0500
TZOFFSETTO:-0400
TZNAME:EDT
DTSTART:20220313T070000
END:DAYLIGHT
BEGIN:STANDARD
TZOFFSETFROM:-0400
TZOFFSETTO:-0500
TZNAME:EST
DTSTART:20221106T060000
END:STANDARD
BEGIN:DAYLIGHT
TZOFFSETFROM:-0500
TZOFFSETTO:-0400
TZNAME:EDT
DTSTART:20230312T070000
END:DAYLIGHT
BEGIN:STANDARD
TZOFFSETFROM:-0400
TZOFFSETTO:-0500
TZNAME:EST
DTSTART:20231105T060000
END:STANDARD
BEGIN:DAYLIGHT
TZOFFSETFROM:-0500
TZOFFSETTO:-0400
TZNAME:EDT
DTSTART:20240310T070000
END:DAYLIGHT
BEGIN:STANDARD
TZOFFSETFROM:-0400
TZOFFSETTO:-0500
TZNAME:EST
DTSTART:20241103T060000
END:STANDARD
BEGIN:DAYLIGHT
TZOFFSETFROM:-0500
TZOFFSETTO:-0400
TZNAME:EDT
DTSTART:20250309T070000
END:DAYLIGHT
BEGIN:STANDARD
TZOFFSETFROM:-0400
TZOFFSETTO:-0500
TZNAME:EST
DTSTART:20251102T060000
END:STANDARD
END:VTIMEZONE
BEGIN:VEVENT
DTSTART;TZID=America/New_York:20220821T080000
DTEND;TZID=America/New_York:20220821T170000
DTSTAMP:20260422T191419
CREATED:20220216T135711Z
LAST-MODIFIED:20231018T142710Z
UID:2915-1661068800-1661101200@www.columbiahillsgolf.com
SUMMARY:MENS CLUB CHAMP RD 3 DEADLINE
DESCRIPTION:
URL:https://www.columbiahillsgolf.com/event/mens-club-champ-rd-3-deadline-2/
CATEGORIES:Deadline,Golf
END:VEVENT
BEGIN:VEVENT
DTSTART;TZID=America/New_York:20220825T090000
DTEND;TZID=America/New_York:20220825T170000
DTSTAMP:20260422T191419
CREATED:20220209T141417Z
LAST-MODIFIED:20231018T142709Z
UID:2879-1661418000-1661446800@www.columbiahillsgolf.com
SUMMARY:CWGA Open
DESCRIPTION:
URL:https://www.columbiahillsgolf.com/event/cwga-open/
CATEGORIES:Golf
END:VEVENT
BEGIN:VEVENT
DTSTART;TZID=America/New_York:20220826T130000
DTEND;TZID=America/New_York:20220826T180000
DTSTAMP:20260422T191419
CREATED:20220209T135959Z
LAST-MODIFIED:20231018T142709Z
UID:2870-1661518800-1661536800@www.columbiahillsgolf.com
SUMMARY:Mens Member Member
DESCRIPTION:It’s time for one of our most anticipated events at Columbia Hills! \nThe Men’s Member – Member Tournament is an 18-hole event. Members pair up to form 2-man teams and compete in a different format each nine holes. The event includes lunch\, dinner\, tee gift and prizes. \n  \n\nFormat: Two-man teams competing over 18 holes.  Each nine holes will have a different format:\n\n  \nBest Ball:  Each two-man team will play a one best ball out of the two\, using full handicap to a maximum of 36.  Handicap strokes are taken as they fall on the scorecard. \n  \nScramble:  Each team will play a two-man scramble.  Both players tee off on each hole from the white tee markers.  Select the best shot and each player hits the next ball from that spot.  Continue this procedure until the ball is holed.  Preferred lies through the green but must stay in the same cut of grass. \n\nPrizes: Prizes will be awarded to low 3 teams in each flight (18 Hole Total)\n\nPrizes will also be awarded to the low team in each 9-hole format for each flight (9 hole) \nTee gift for all participants \n\nTime:        1:00pm Shotgun Start | 11:30 am Lunch | Dinner\nCost:         $125 per person\nEligible:    All Golfing & Corporate Members
URL:https://www.columbiahillsgolf.com/event/mens-member-member-3/
CATEGORIES:Golf
END:VEVENT
BEGIN:VEVENT
DTSTART;TZID=America/New_York:20220828T080000
DTEND;TZID=America/New_York:20220828T170000
DTSTAMP:20260422T191419
CREATED:20220216T135800Z
LAST-MODIFIED:20231018T142709Z
UID:2916-1661673600-1661706000@www.columbiahillsgolf.com
SUMMARY:2 MAN BB RD 4 DEADLINE
DESCRIPTION:
URL:https://www.columbiahillsgolf.com/event/2-man-bb-rd-4-deadline/
CATEGORIES:Deadline,Golf
END:VEVENT
BEGIN:VEVENT
DTSTART;TZID=America/New_York:20220901T080000
DTEND;TZID=America/New_York:20220901T170000
DTSTAMP:20260422T191419
CREATED:20220216T140006Z
LAST-MODIFIED:20231018T142708Z
UID:2917-1662019200-1662051600@www.columbiahillsgolf.com
SUMMARY:LADIES CLUB CHAMP FINALS MATCHES
DESCRIPTION:TEE TIMES 9 AM-11 AM
URL:https://www.columbiahillsgolf.com/event/ladies-club-champ-finals-matches/
CATEGORIES:Deadline,Golf
END:VEVENT
BEGIN:VEVENT
DTSTART;TZID=America/New_York:20220904T080000
DTEND;TZID=America/New_York:20220904T170000
DTSTAMP:20260422T191419
CREATED:20220216T140042Z
LAST-MODIFIED:20231018T142708Z
UID:2918-1662278400-1662310800@www.columbiahillsgolf.com
SUMMARY:MENS CLUB CHAMP SEMI FINALS
DESCRIPTION:
URL:https://www.columbiahillsgolf.com/event/mens-club-champ-semi-finals/
CATEGORIES:Deadline,Golf
END:VEVENT
BEGIN:VEVENT
DTSTART;TZID=America/New_York:20220905T120000
DTEND;TZID=America/New_York:20220905T140000
DTSTAMP:20260422T191419
CREATED:20220209T130649Z
LAST-MODIFIED:20231018T142648Z
UID:2848-1662379200-1662386400@www.columbiahillsgolf.com
SUMMARY:Couples Club Championship
DESCRIPTION:Our Couples’ Club Championship is a long-standing tradition for our Club. Become part of this fun competition! \nEnjoy a day of fun\, competitive golf and team up with your significant other in an attempt to take home the trophy and prestigious title of 2022 Couples’ Club Champions! The couple with the lowest Best Ball score will be crowned the Champions. \n  \n\nFormat: One Best Ball of the two\, Handicap max (men 31 & women 36)\nTime:     12:00pm – 2:00pm Tee Times. Pairings will be created by the Pro Shop.\nCost:      $50 Per Couple\nEligible: All Golfing Members & Corporate Members\nPrizes: Prizes will be awarded to the top 3 low net couples\n2021 Champions: Rick & Lynelle Puzzitiello
URL:https://www.columbiahillsgolf.com/event/couples-club-championship-4/
CATEGORIES:Golf
END:VEVENT
BEGIN:VEVENT
DTSTART;TZID=America/New_York:20220911T080000
DTEND;TZID=America/New_York:20220911T170000
DTSTAMP:20260422T191419
CREATED:20220216T140122Z
LAST-MODIFIED:20231018T142648Z
UID:2919-1662883200-1662915600@www.columbiahillsgolf.com
SUMMARY:MENS CLUB CHAMP FINALS
DESCRIPTION:
URL:https://www.columbiahillsgolf.com/event/mens-club-champ-finals-3/
CATEGORIES:Deadline,Golf
END:VEVENT
BEGIN:VEVENT
DTSTART;VALUE=DATE:20220924
DTEND;VALUE=DATE:20220926
DTSTAMP:20260422T191419
CREATED:20220209T141616Z
LAST-MODIFIED:20231018T142647Z
UID:2881-1663977600-1664150399@www.columbiahillsgolf.com
SUMMARY:Williams Cup
DESCRIPTION:
URL:https://www.columbiahillsgolf.com/event/williams-cup-5/
CATEGORIES:Golf
END:VEVENT
BEGIN:VEVENT
DTSTART;TZID=America/New_York:20220927T130000
DTEND;TZID=America/New_York:20220927T180000
DTSTAMP:20260422T191419
CREATED:20220209T132539Z
LAST-MODIFIED:20231018T142647Z
UID:2859-1664283600-1664301600@www.columbiahillsgolf.com
SUMMARY:Ladies Closing Day
DESCRIPTION:The competitive season may be over\, but we still welcome all ladies to come golf for the rest of the season. For our final Ladies’ Day\, we will be playing a fun and exciting format that gives some freedom for the stressful conditions that come along with competition. The format will be a 1\,2\,3 Tournament; the teams will be comprised of four ladies each where we will use three scores on all par 5’s\, two scores on all par 4’s\, and one score on all par 3’s. \n  \n\nFormat: 1\,2\,3 Tournament – Handicapped Event\nTime: 1:00pm Shotgun\, Dinner after golf\nPairings: The Pro Shop will create pairings.
URL:https://www.columbiahillsgolf.com/event/ladies-closing-day-3/
CATEGORIES:Golf
END:VEVENT
BEGIN:VEVENT
DTSTART;TZID=America/New_York:20221001T100000
DTEND;TZID=America/New_York:20221001T150000
DTSTAMP:20260422T191419
CREATED:20220209T131112Z
LAST-MODIFIED:20231018T142646Z
UID:2850-1664618400-1664636400@www.columbiahillsgolf.com
SUMMARY:Men's Fall Round Up
DESCRIPTION:Last but not least\, our season wrap-up event! \n  \nThe Fall Round-Up marks the end of our season. For this event\, we welcome you to sign up with your group and guests\, or as a single and we will pair you up. This format and light-hearted event is a great way to signal the end of the season! \n  \n·        Format:  Two Best Balls of Four using 90% Handicap \n·        Times:  10:00am Shotgun Start  \n·        Entry:  $75 per person – Includes Breakfast at 8:30 am and prizes following golf. \n·        Handicap:  All players must have a valid USGA handicap index. \n·        Teams:  Make your own foursome or sign up as a single and the Pro Shop will pair you. \n·        Eligible:  All Golf Members and their guests (guest fees still apply).
URL:https://www.columbiahillsgolf.com/event/mens-fall-round-up-4/
CATEGORIES:Golf
END:VEVENT
BEGIN:VEVENT
DTSTART;TZID=America/New_York:20230502T173000
DTEND;TZID=America/New_York:20230502T213000
DTSTAMP:20260422T191419
CREATED:20230329T190207Z
LAST-MODIFIED:20231018T142556Z
UID:3353-1683048600-1683063000@www.columbiahillsgolf.com
SUMMARY:Ladies Opening Day
DESCRIPTION:Ladies Opening Day Flyer
URL:https://www.columbiahillsgolf.com/event/ladies-opening-day-3/
CATEGORIES:Golf
END:VEVENT
BEGIN:VEVENT
DTSTART;TZID=America/New_York:20230525T190000
DTEND;TZID=America/New_York:20230525T220000
DTSTAMP:20260422T191419
CREATED:20230519T191823Z
LAST-MODIFIED:20231018T142537Z
UID:3384-1685041200-1685052000@www.columbiahillsgolf.com
SUMMARY:WGA Welcome Reception
DESCRIPTION:WGA Meet and Greet Flyer
URL:https://www.columbiahillsgolf.com/event/wga-welcome-reception/
CATEGORIES:Golf,Social
END:VEVENT
BEGIN:VEVENT
DTSTART;VALUE=DATE:20230611
DTEND;VALUE=DATE:20230612
DTSTAMP:20260422T191419
CREATED:20230519T192151Z
LAST-MODIFIED:20231018T142537Z
UID:3388-1686441600-1686527999@www.columbiahillsgolf.com
SUMMARY:Ladies Solheim Cup
DESCRIPTION:
URL:https://www.columbiahillsgolf.com/event/ladies-solheim-cup-2/
CATEGORIES:Golf
END:VEVENT
BEGIN:VEVENT
DTSTART;VALUE=DATE:20230615
DTEND;VALUE=DATE:20230618
DTSTAMP:20260422T191419
CREATED:20230329T190813Z
LAST-MODIFIED:20231018T142536Z
UID:3357-1686787200-1687046399@www.columbiahillsgolf.com
SUMMARY:Men's Invitational | Clubhouse & Course Closed
DESCRIPTION:The Clubhouse and Course will be closed from Thursday\, June 15th – Saturday\, June 17th for a private event. Thank you for your understanding.
URL:https://www.columbiahillsgolf.com/event/mens-invitational-clubhouse-course-closed/
CATEGORIES:General,Golf
END:VEVENT
BEGIN:VEVENT
DTSTART;TZID=America/New_York:20230621T180000
DTEND;TZID=America/New_York:20230621T220000
DTSTAMP:20260422T191419
CREATED:20230519T193341Z
LAST-MODIFIED:20231018T142536Z
UID:3394-1687370400-1687384800@www.columbiahillsgolf.com
SUMMARY:Ladies Whack n Snack #1
DESCRIPTION:
URL:https://www.columbiahillsgolf.com/event/ladies-whack-n-snack-1/
CATEGORIES:Golf
END:VEVENT
BEGIN:VEVENT
DTSTART;TZID=America/New_York:20230711T073000
DTEND;TZID=America/New_York:20230711T170000
DTSTAMP:20260422T191419
CREATED:20230603T145001Z
LAST-MODIFIED:20231018T142536Z
UID:3413-1689060600-1689094800@www.columbiahillsgolf.com
SUMMARY:Ladies Guest Day
DESCRIPTION:
URL:https://www.columbiahillsgolf.com/event/ladies-guest-day-4/
CATEGORIES:Golf
END:VEVENT
BEGIN:VEVENT
DTSTART;TZID=America/New_York:20230719T180000
DTEND;TZID=America/New_York:20230719T220000
DTSTAMP:20260422T191419
CREATED:20230519T193837Z
LAST-MODIFIED:20231018T142535Z
UID:3398-1689789600-1689804000@www.columbiahillsgolf.com
SUMMARY:Whack n Snack #2
DESCRIPTION:
URL:https://www.columbiahillsgolf.com/event/whack-n-snack-2-2/
CATEGORIES:Golf
END:VEVENT
BEGIN:VEVENT
DTSTART;VALUE=DATE:20230812
DTEND;VALUE=DATE:20230813
DTSTAMP:20260422T191419
CREATED:20230603T150549Z
LAST-MODIFIED:20231018T142534Z
UID:3415-1691798400-1691884799@www.columbiahillsgolf.com
SUMMARY:Columbia Hills Day
DESCRIPTION:Columbia Hills Day Flyer
URL:https://www.columbiahillsgolf.com/event/columbia-hills-day-4/
CATEGORIES:Golf
END:VEVENT
BEGIN:VEVENT
DTSTART;TZID=America/New_York:20230816T180000
DTEND;TZID=America/New_York:20230816T210000
DTSTAMP:20260422T191419
CREATED:20230603T150705Z
LAST-MODIFIED:20231018T142534Z
UID:3417-1692208800-1692219600@www.columbiahillsgolf.com
SUMMARY:Whack n Snack #3
DESCRIPTION:
URL:https://www.columbiahillsgolf.com/event/whack-n-snack-3/
CATEGORIES:Golf
END:VEVENT
BEGIN:VEVENT
DTSTART;TZID=America/New_York:20230926T170000
DTEND;TZID=America/New_York:20230926T190000
DTSTAMP:20260422T191419
CREATED:20230912T164452Z
LAST-MODIFIED:20231018T141331Z
UID:3445-1695747600-1695754800@www.columbiahillsgolf.com
SUMMARY:Ladies Closing Day
DESCRIPTION:Ladies Closing Day Menu
URL:https://www.columbiahillsgolf.com/event/ladies-closing-day-4/
CATEGORIES:Golf
END:VEVENT
BEGIN:VEVENT
DTSTART;TZID=America/New_York:20240413T120000
DTEND;TZID=America/New_York:20240413T170000
DTSTAMP:20260422T191419
CREATED:20240320T130428Z
LAST-MODIFIED:20240320T130428Z
UID:3755-1713009600-1713027600@www.columbiahillsgolf.com
SUMMARY:MGA Blind Draw Scramble
DESCRIPTION:Itinerary: \n\nBlind Draw Scramble – Noon Shotgun Start – Saturday April 13\n\nA\, B\,C\, D Teams – Organized by Pro Shop\nPayout top 3 places\nPayout pro shop credit\nCash skins game optional – $40.00 per team\nBuffet after
URL:https://www.columbiahillsgolf.com/event/mga-blind-draw-scramble/
CATEGORIES:Golf
END:VEVENT
BEGIN:VEVENT
DTSTART;TZID=America/New_York:20240427T100000
DTEND;TZID=America/New_York:20240427T150000
DTSTAMP:20260422T191419
CREATED:20240320T131325Z
LAST-MODIFIED:20240320T131325Z
UID:3756-1714212000-1714230000@www.columbiahillsgolf.com
SUMMARY:Mens Opening Day 2024
DESCRIPTION:Itinerary: \n\nFor this event\, we welcome you to sign up with your group and guests\, or as a single and we will pair you up. This format and light-hearted event is a great way to signal the start of the season!\n\n• Format:  Two Best Balls of Four using 90% Handicap (Net Double Bogey MAX)\n• Times: 10:00am Shotgun Start\n• Entry:  $75 per person – includes breakfast\, Lunch and prizes following golf.\n• Handicap:  All players must have a valid USGA handicap index.\n• Teams:  Make your own team or sign up as a single and the Pro Shop will pair you if possible.\n• Eligible:  All Golf Members & Social Members and their guests (guest fees still apply).
URL:https://www.columbiahillsgolf.com/event/mens-opening-day-2024/
CATEGORIES:Golf
END:VEVENT
BEGIN:VEVENT
DTSTART;TZID=America/New_York:20240507T130000
DTEND;TZID=America/New_York:20240507T170000
DTSTAMP:20260422T191419
CREATED:20240320T131604Z
LAST-MODIFIED:20240320T131604Z
UID:3757-1715086800-1715101200@www.columbiahillsgolf.com
SUMMARY:WGA Opening Day 2024
DESCRIPTION:Itinerary: \n\nAll Women’s Golf Association members are encouraged to attend.  Come for golf\, a low net/low gross tournament\, or just for dinner in the evening.
URL:https://www.columbiahillsgolf.com/event/wga-opening-day-2024/
CATEGORIES:Golf
END:VEVENT
BEGIN:VEVENT
DTSTART;TZID=America/New_York:20240507T173000
DTEND;TZID=America/New_York:20240507T200000
DTSTAMP:20260422T191419
CREATED:20240404T124644Z
LAST-MODIFIED:20240404T124644Z
UID:3793-1715103000-1715112000@www.columbiahillsgolf.com
SUMMARY:WGA Opening Day Dinner
DESCRIPTION:WGA Opening Day Dinner Flyer
URL:https://www.columbiahillsgolf.com/event/wga-opening-day-dinner/
CATEGORIES:Golf
END:VEVENT
BEGIN:VEVENT
DTSTART;TZID=America/New_York:20240510T150000
DTEND;TZID=America/New_York:20240510T200000
DTSTAMP:20260422T191419
CREATED:20240320T131748Z
LAST-MODIFIED:20240320T131748Z
UID:3758-1715353200-1715371200@www.columbiahillsgolf.com
SUMMARY:Mens Pot Game May
DESCRIPTION:Itinerary: \n\n\nMen’s Pot Game #1 – Friday May 10 – 3PM Shotgun Start\n\nSame payouts as 2023\n\n$50.00 Cash Entry Fee\n\nPlaying Format – 2 man scramble\nLimited spots available – 40-person field\nMember/guests welcome\, USGA GHIN HC needed\nBuffet afterwards
URL:https://www.columbiahillsgolf.com/event/mens-pot-game-may/
CATEGORIES:Golf
END:VEVENT
BEGIN:VEVENT
DTSTART;TZID=America/New_York:20240517T140000
DTEND;TZID=America/New_York:20240517T190000
DTSTAMP:20260422T191419
CREATED:20240320T132122Z
LAST-MODIFIED:20240320T132818Z
UID:3759-1715954400-1715972400@www.columbiahillsgolf.com
SUMMARY:MGA Red White Blue Classic
DESCRIPTION:Itinerary: \n\nMGA Classic\, Red\, White\, & Blue – Friday May 17 – 2pm Shotgun Start\n\nNEW EVENT Play your own golf ball\, rotation of tee boxes\n$75.00 (includes lunch)\n\nTwo Flights – Divided by entries and split by pro shop\n\nEach Flight payout ( pro shop credit)  Low Gross / Low Net\nOptional $40.00 Cash Skins and pins – For each flight
URL:https://www.columbiahillsgolf.com/event/mga-red-white-blue-classic/
CATEGORIES:Golf
END:VEVENT
BEGIN:VEVENT
DTSTART;TZID=America/New_York:20240523T190000
DTEND;TZID=America/New_York:20240523T210000
DTSTAMP:20260422T191419
CREATED:20240511T194748Z
LAST-MODIFIED:20240511T194748Z
UID:3831-1716490800-1716498000@www.columbiahillsgolf.com
SUMMARY:WGA Welcome Reception
DESCRIPTION:WGA Meet & Greet Flyer
URL:https://www.columbiahillsgolf.com/event/wga-welcome-reception-2/
CATEGORIES:Golf,Social
END:VEVENT
BEGIN:VEVENT
DTSTART;TZID=America/New_York:20240524T180000
DTEND;TZID=America/New_York:20240524T210000
DTSTAMP:20260422T191419
CREATED:20240320T132539Z
LAST-MODIFIED:20240320T132539Z
UID:3760-1716573600-1716584400@www.columbiahillsgolf.com
SUMMARY:Couples Wine and Nine May
DESCRIPTION:Itinerary: \n\nWine Down with some golf to ease into the weekend! Perfect for golf and wine enthusiasts. Enjoy a relaxing evening on the course\, with wine and light food fare. Play with friends and meet new ones. \n\nThis will be a very popular event so sign up NOW. \n\n\nFormat:  2 Person Couples Scramble 10% of combined handicap.\nTime:  6:00 PM Shotgun\nPairings:  Choose your own 4-some or be paired by the golf shop.\nIncludes: Wine\, assorted Hors d’oeuvres on course and prizes.
URL:https://www.columbiahillsgolf.com/event/couples-wine-and-nine-may/
CATEGORIES:Golf
END:VEVENT
BEGIN:VEVENT
DTSTART;TZID=America/New_York:20240609T130000
DTEND;TZID=America/New_York:20240609T180000
DTSTAMP:20260422T191419
CREATED:20240320T133756Z
LAST-MODIFIED:20240320T133756Z
UID:3761-1717938000-1717956000@www.columbiahillsgolf.com
SUMMARY:WGA Solheim Cup 24
DESCRIPTION:Itinerary: \n\nJoin us for the only WGA Saturday event of the season! \n  \nThis is a fun filled 18-hole event. The field will be split into two groups\, Solheim Cup style. \n  \nWe will be kicking off the first nine holes with a Two Person Scramble\, the last nine holes will be Two-person Best Ball. Sign up as a single and you will be assigned to a team along with a foursome. Cash prizes will be awarded to the winners. \n  \n• Format: Two Person Scramble\, Two Person Best Ball \n• Date: Sunday\, June 9th \n• Time: 12:00pm – 1:00pm tee times \n• Cost: No entry fee \n• Eligible: WGA members \n  \nWe will conduct a DRAFT party on the patio on Wednesday 6/7/23. You do not have to attend the DRAFT party to play in the event on Sunday June 11th. The DRAFT party is a chance to meet with your team and have some fun before the event. If you cannot attend\, information will be sent out to everyone for team assignments and tee times. \n  \nYou ask\, what happens at the DRAFT party? While everyone is together\, each captain reveals their team players and takes turns paring two ladies together 1st tee time\, 2nd team time etc…. until all the pairing and tee times are revealed. \n  \nWhat if I am not a good player? – Absolutely not to worry. Give it one chance. It is a very fun event and meant to be light-hearted with no pressure.
URL:https://www.columbiahillsgolf.com/event/wga-solheim-cup-24/
CATEGORIES:Golf
END:VEVENT
END:VCALENDAR